BEGIN:VCALENDAR
VERSION:2.0
PRODID:-//ChamberMaster//Event Calendar 2.0//EN
METHOD:PUBLISH
X-PUBLISHED-TTL:P3D
REFRESH-INTERVAL:P3D
CALSCALE:GREGORIAN
BEGIN:VEVENT
DTSTART:20151216T143000Z
DTEND:20151216T193000Z
X-MICROSOFT-CDO-ALLDAYEVENT:FALSE
SUMMARY:"Quilts of Valor"
DESCRIPTION:"Quilts of Valor"  volunteers meet   to make special quilts for combat veterans.   Bring sewing supplies and your lunch.
X-ALT-DESC;FMTTYPE=text/html:<span style="font-size: 14pt\;"><span style="font-family: calibri\;">&quot\;Quilts of Valor&quot\;&nbsp\; volunteers meet&nbsp\;&nbsp\; to make special quilts for combat veterans.&nbsp\;&nbsp\; Bring sewing supplies and your lunch.</span></span><br />\n&nbsp\;
LOCATION:at the Coosa Methodist Church
UID:e.256.44235
SEQUENCE:3
DTSTAMP:20260421T074307Z
URL:https://members.visitblairsvillega.com/events/details/quilts-of-valor-12-16-2015-44235
END:VEVENT

END:VCALENDAR
