BEGIN:VCALENDAR
VERSION:2.0
PRODID:-//ChamberMaster//Event Calendar 2.0//EN
METHOD:PUBLISH
X-PUBLISHED-TTL:P3D
REFRESH-INTERVAL:P3D
CALSCALE:GREGORIAN
BEGIN:VEVENT
DTSTART:20150523T210000Z
DTEND:20150523T210000Z
X-MICROSOFT-CDO-ALLDAYEVENT:FALSE
SUMMARY:R.S.V.P. for Men's Complimentary Facial Class
DESCRIPTION:Roberta Ford of Mary Kay Cosmetics will be at Gift Baskets of Joy.com next to Persaud Jewelers hosting a men's facial class introducing the complete MK men's product line.\n\nIf you currently do not have a consultant and you're interested in joining please contact Roberta Ford 706 897-0245 to confirm your seat no later than Friday evening. You may send a personal text\, or contact her through her website.\n\nhttp://m.marykay.com/mt/www.marykay.com:80/rford102/en-US/_layouts/MaryKayCoreCatalog/CategoryPage.aspx?dsNav=N:10027
X-ALT-DESC;FMTTYPE=text/html:<span style="font-family: arial\;"><span style="font-size: 14px\;"><span style="color: rgba(0\, 0\, 0\, 0.7)\; background-color: rgba(255\, 255\, 255\, 0)\;">Roberta Ford of Mary Kay Cosmetics will be at Gift Baskets of Joy.com&nbsp\;next to Persaud Jewelers hosting a men&#39\;s facial class introducing the complete MK men&#39\;s product line.</span></span></span>\n\n<div><span style="font-size: 14px\;"><span style="color: inherit\; background-color: rgba(255\, 255\, 255\, 0)\;">If you currently do not have a consultant and you&#39\;re interested in joining please contact Roberta Ford&nbsp\;<a href="tel:706 8970 245" style="margin: 0px\; padding: 0px\; border-radius: 0px\; border: currentColor\; border-image: 100% 1 0\; left: auto\; top: auto\; width: auto\; height: auto\; text-align: inherit\; right: auto\; bottom: auto\; color: rgb(66\, 34\, 0)\; text-transform: inherit\; line-height: inherit\; text-indent: inherit\; letter-spacing: inherit\; overflow: visible\; clear: none\; font-family: inherit\; font-size: inherit\; font-style: inherit\; font-variant: inherit\; font-weight: bold\; text-decoration: none\; word-spacing: inherit\; vertical-align: baseline\; float: none\; display: inline\; white-space: inherit\; visibility: inherit\; border-collapse: separate\; position: static\; z-index: auto\; table-layout: auto\; direction: inherit\; -ms-word-break: inherit\; -ms-word-wrap: break-word\; -ms-text-overflow: clip\; max-height: none\; max-width: none\; content: normal\; box-sizing: content-box\; empty-cells: show\; opacity: 1\; box-shadow: none\; background-image: none\; resize: none\; outline-offset: 0px\;">706 897-0245</a>&nbsp\;to confirm your seat&nbsp\;<span style="color: inherit\;"><strong>no later than Friday evening. You may send a personal text\, or contact her through her website.</strong></span><br />\nhttp://m.marykay.com/mt/www.marykay.com:80/rford102/en-US/_layouts/MaryKayCoreCatalog/CategoryPage.aspx?dsNav=N:10027</span></span></div>\n
LOCATION:37 Young Harris St Blairsville Ga 30512
UID:e.256.40289
SEQUENCE:3
DTSTAMP:20260423T182650Z
URL:https://members.visitblairsvillega.com/events/details/r-s-v-p-for-men-s-complimentary-facial-class-05-23-2015-40289
END:VEVENT

END:VCALENDAR
