BEGIN:VCALENDAR
VERSION:2.0
PRODID:-//ChamberMaster//Event Calendar 2.0//EN
METHOD:PUBLISH
X-PUBLISHED-TTL:P3D
REFRESH-INTERVAL:P3D
CALSCALE:GREGORIAN
BEGIN:VEVENT
DTSTART;VALUE=DATE:20150502
DTEND;VALUE=DATE:20150503
TRANSP:TRANSPARENT
X-MICROSOFT-CDO-ALLDAYEVENT:TRUE
SUMMARY:Rabies Clinic
DESCRIPTION:Blairsville and Union County Veterinarians:\n\nDr. Barnes\, Dr. Livingston\, and Dr. Zagrocki\n\n\n\nPrimary School Parking Lot:     UCPH: Dr. Barnes     9am - 4pm\n\nIvy Log Voting Precinct:            BAH: Dr. Livingston   9am - noon\n\nFire Station\, Suches:                   UCPH: Dr. Zagrocki   9am - noon\n\nVoting Precinct 2\, Jones Creek: BAH: Dr. Livingston 1pm - 4pm\n\nVoting Precinct 3\, south 19/129: UCPS: Dr. Zagrocki 1pm - 4pm\n\n(Across from Pappy's Flea Market)\n\n\n\nGeorgia Law requires rabies vaccinations for all dogs\, cats and ferrets  12 weeks of age.\n\n\n\nRabies Vaccinations Only:                                 $10 Dog\, Cat\, Ferret\n\nCanine Distemper\, Parvo\, Lepto (DHLPP)        $15 Dog\n\nFeline "Distemper" (FVRCPC)                           $15 Cat\n\nFeline FVRCPC and FeLV                                 $33 Cat (FeLV @ UCPH only)
X-ALT-DESC;FMTTYPE=text/html:<p>Blairsville and Union County Veterinarians:<br />\nDr. Barnes\, Dr. Livingston\, and Dr. Zagrocki<br />\n<br />\nPrimary School Parking Lot: &nbsp\;&nbsp\;&nbsp\;&nbsp\;UCPH: Dr. Barnes &nbsp\;&nbsp\;&nbsp\;&nbsp\;9am - 4pm<br />\nIvy Log Voting Precinct:&nbsp\;&nbsp\;&nbsp\;&nbsp\;&nbsp\;&nbsp\;&nbsp\;&nbsp\;&nbsp\;&nbsp\; &nbsp\;BAH: Dr. Livingston&nbsp\;&nbsp\;&nbsp\;9am - noon<br />\nFire Station\, Suches:&nbsp\;&nbsp\;&nbsp\;&nbsp\;&nbsp\;&nbsp\;&nbsp\;&nbsp\;&nbsp\;&nbsp\;&nbsp\;&nbsp\;&nbsp\;&nbsp\;&nbsp\;&nbsp\;<span class="rangySelectionBoundary" id="selectionBoundary_1430234641863_7730752038693114" style="line-height: 0\; display: none\;">&iuml\;&raquo\;&iquest\;</span>UCPH: Dr. Zagrocki&nbsp\;&nbsp\; 9am - noon<br />\nVoting Precinct 2\, Jones Creek: BAH: Dr. Livingston 1pm - 4pm<br />\nVoting Precinct 3\, south 19/129: UCPS: Dr. Zagrocki 1pm - 4pm<br />\n(Across from Pappy&#39\;s Flea Market)<br />\n<br />\nGeorgia Law requires rabies vaccinations for all dogs\, cats and ferrets &gt\;12 weeks of age.<br />\n<br />\nRabies Vaccinations Only:&nbsp\;&nbsp\;&nbsp\;&nbsp\;&nbsp\;&nbsp\;&nbsp\;&nbsp\;&nbsp\;&nbsp\;&nbsp\;&nbsp\;&nbsp\;&nbsp\;&nbsp\;&nbsp\;&nbsp\;&nbsp\;&nbsp\;&nbsp\;&nbsp\;&nbsp\;&nbsp\;&nbsp\;&nbsp\;&nbsp\;&nbsp\;&nbsp\;&nbsp\;&nbsp\;&nbsp\;&nbsp\; $10 Dog\, Cat\, Ferret<br />\nCanine Distemper\, Parvo\, Lepto (DHLPP)&nbsp\;&nbsp\;&nbsp\;&nbsp\;&nbsp\;&nbsp\;&nbsp\;&nbsp\;$15 Dog<br />\nFeline &quot\;Distemper&quot\; (FVRCPC)&nbsp\;&nbsp\;&nbsp\;&nbsp\;&nbsp\;&nbsp\;&nbsp\;&nbsp\;&nbsp\;&nbsp\;&nbsp\;&nbsp\;&nbsp\;&nbsp\;&nbsp\;&nbsp\;&nbsp\;&nbsp\;&nbsp\;&nbsp\;&nbsp\;&nbsp\;&nbsp\;&nbsp\;&nbsp\;&nbsp\;&nbsp\;$15 Cat<br />\nFeline FVRCPC and FeLV&nbsp\;&nbsp\;&nbsp\;&nbsp\;&nbsp\;&nbsp\;&nbsp\;&nbsp\;&nbsp\;&nbsp\;&nbsp\;&nbsp\;&nbsp\;&nbsp\;&nbsp\;&nbsp\;&nbsp\;&nbsp\;&nbsp\;&nbsp\;&nbsp\;&nbsp\;&nbsp\;&nbsp\;&nbsp\;&nbsp\;&nbsp\;&nbsp\;&nbsp\;&nbsp\;&nbsp\;&nbsp\;&nbsp\;$33 Cat (FeLV @ UCPH only)<br />\n&nbsp\;</p>\n
LOCATION:Primary School Parking Lot: UCPH: Dr. Barnes 9am - 4pm Ivy Log Voting Precinct: BAH: Dr. Livingston 9am - noon Fire Station\, Suches: UCPH: Dr. Zagrocki 9am - noon Voting Precinct 2\, Jones Creek: BAH: Dr. Livingston 1pm - 4pm Voting Precinct 3\, south 19/129: UCPS: Dr. Zagrocki 1pm - 4pm (Across from Pappy's Flea Market)
UID:e.256.39999
SEQUENCE:3
DTSTAMP:20260423T182134Z
URL:https://members.visitblairsvillega.com/events/details/rabies-clinic-05-02-2015-39999
END:VEVENT

END:VCALENDAR
