BEGIN:VCALENDAR
VERSION:2.0
PRODID:-//ChamberMaster//Event Calendar 2.0//EN
METHOD:PUBLISH
X-PUBLISHED-TTL:P3D
REFRESH-INTERVAL:P3D
CALSCALE:GREGORIAN
BEGIN:VEVENT
DTSTART:20160227T230000Z
DTEND:20160228T020000Z
X-MICROSOFT-CDO-ALLDAYEVENT:FALSE
SUMMARY:Rainy Day Celebrity Roast
DESCRIPTION:Join us as we roast a local celebrity on February 27th at 6:00 p.m. This event will include food\, music and fun. Shrimp & Grits will be prepared by Amazing Grace Catering.  All proceeds benefit Hope House - helping our local residents in their time of urgent need. Event sponsored by Cabin Coffee of Blairsville\, Amazing Grace Catering\, Logan Turnpike Mill and Lick It Up TV.  Tickets are $25 and should be purchased in advance as seating is limited.
X-ALT-DESC;FMTTYPE=text/html:Join us as we roast a local celebrity on February 27th at 6:00 p.m. This event will include food\, music and fun. Shrimp &amp\; Grits will be prepared by Amazing Grace Catering.&nbsp\; All proceeds benefit Hope House - helping our local residents in their time of urgent need. Event sponsored by Cabin Coffee of Blairsville\, Amazing Grace Catering\, Logan Turnpike Mill and Lick It Up TV.&nbsp\; Tickets are $25 and should be purchased in advance as seating is limited.
LOCATION:Cabin Coffee 44 Town Square Blairsville
UID:e.256.48280
SEQUENCE:3
DTSTAMP:20260421T055718Z
URL:https://members.visitblairsvillega.com/events/details/rainy-day-celebrity-roast-02-27-2016-48280
END:VEVENT

END:VCALENDAR
