BEGIN:VCALENDAR
VERSION:2.0
PRODID:-//ChamberMaster//Event Calendar 2.0//EN
METHOD:PUBLISH
X-PUBLISHED-TTL:P3D
REFRESH-INTERVAL:P3D
CALSCALE:GREGORIAN
BEGIN:VEVENT
DTSTART:20151206T210000Z
DTEND:20151207T030000Z
X-MICROSOFT-CDO-ALLDAYEVENT:FALSE
SUMMARY:Raleigh Ringers Christmas Celebration
DESCRIPTION:Celebrate the Christmas season with the Raleigh Ringers\, an internationally acclaimed concert handbell choir based in Raleigh\, North Carolina. Since its founding in 1990\, The Raleigh Ringers has been dazzling audiences with unique interpretations of sacred\, secular and popular music\, including famous rock 'n' roll tunes arranged just for handbells. Under the direction of David M. Harris\, The Raleigh Ringers has performed in 39 US States and the District of Columbia\, in several cities in France\, in Canada\, live on the nationally syndicated "Bob and Tom Show" radio show\, and on the "Hour of Power" at the Crystal Cathedral in California. Noted particularly for their creative\, artistic interpretation\, The Raleigh Ringers have established themselves as America's premiere professional ensemble.
X-ALT-DESC;FMTTYPE=text/html:Celebrate the Christmas season with the Raleigh Ringers\, an internationally acclaimed concert handbell choir based in Raleigh\, North Carolina. Since its founding in 1990\, The Raleigh Ringers has been dazzling audiences with unique interpretations of sacred\, secular and popular music\, including famous rock &#39\;n&#39\; roll tunes arranged just for handbells. Under the direction of David M. Harris\, The Raleigh Ringers has performed in 39 US States and the District of Columbia\, in several cities in France\, in Canada\, live on the nationally syndicated &quot\;Bob and Tom Show&quot\; radio show\, and on the &quot\;Hour of Power&quot\; at the Crystal Cathedral in California. Noted particularly for their creative\, artistic interpretation\, The Raleigh Ringers have established themselves as America&#39\;s premiere professional ensemble.
LOCATION:Smoky Mountain Center for the Performing Arts 1028 Georgia Road Franklin\, NC 28734
UID:e.256.41405
SEQUENCE:3
DTSTAMP:20260421T074134Z
URL:https://members.visitblairsvillega.com/events/details/raleigh-ringers-christmas-celebration-12-06-2015-41405
END:VEVENT

END:VCALENDAR
