BEGIN:VCALENDAR
VERSION:2.0
PRODID:-//ChamberMaster//Event Calendar 2.0//EN
METHOD:PUBLISH
X-PUBLISHED-TTL:P3D
REFRESH-INTERVAL:P3D
CALSCALE:GREGORIAN
BEGIN:VEVENT
DTSTART:20150612T233000Z
DTEND:20150613T035500Z
X-MICROSOFT-CDO-ALLDAYEVENT:FALSE
SUMMARY:Ray Stephens
DESCRIPTION:Multi-platinum recording artist\, songwriter and two-time Grammy winner Ray Stevens is celebrating 50 years in the music business this year. From his comedy hit\, "The Streak" to the socially aware "Mr. Businessman" to his Grammy award winning pop standard "Everything is Beautiful\," Stevens continues to showcase his observant and witty songwriting.
X-ALT-DESC;FMTTYPE=text/html:Multi-platinum recording artist\, songwriter and two-time Grammy winner Ray Stevens is celebrating 50 years in the music business this year. From his comedy hit\, &quot\;The Streak&quot\; to the socially aware &quot\;Mr. Businessman&quot\; to his Grammy award winning pop standard &quot\;Everything is Beautiful\,&quot\; Stevens continues to showcase his observant and witty songwriting.
LOCATION:Smoky Mountain Center for the Performing Arts 1028 Georgia Rd Franklin\, NC 28734
UID:e.256.40305
SEQUENCE:3
DTSTAMP:20260423T164834Z
URL:https://members.visitblairsvillega.com/events/details/ray-stephens-06-12-2015-40305
END:VEVENT

END:VCALENDAR
