BEGIN:VCALENDAR
VERSION:2.0
PRODID:-//ChamberMaster//Event Calendar 2.0//EN
METHOD:PUBLISH
X-PUBLISHED-TTL:P3D
REFRESH-INTERVAL:P3D
CALSCALE:GREGORIAN
BEGIN:VEVENT
DTSTART:20150110T000000Z
DTEND:20150110T020000Z
X-MICROSOFT-CDO-ALLDAYEVENT:FALSE
SUMMARY:Rayna Gellert at John C. Campbell Folk School
DESCRIPTION:Rayna Gellert - fiddle all star has shared the stage with Abigail Washburn to Toubab Krewe
X-ALT-DESC;FMTTYPE=text/html:<div>Rayna Gellert - fiddle all star has shared the stage with Abigail Washburn to Toubab Krewe</div>\n
LOCATION:Community Room at John C. Campbell Folk School Brasstown\, NC 28902
UID:e.256.33607
SEQUENCE:3
DTSTAMP:20260424T020429Z
URL:https://members.visitblairsvillega.com/events/details/rayna-gellert-at-john-c-campbell-folk-school-01-09-2015-33607
END:VEVENT

END:VCALENDAR
