BEGIN:VCALENDAR
VERSION:2.0
PRODID:-//ChamberMaster//Event Calendar 2.0//EN
METHOD:PUBLISH
X-PUBLISHED-TTL:P3D
REFRESH-INTERVAL:P3D
CALSCALE:GREGORIAN
BEGIN:VEVENT
DTSTART:20150410T210000Z
DTEND:20150411T003000Z
X-MICROSOFT-CDO-ALLDAYEVENT:FALSE
SUMMARY:Reception for Artist-in-Residence - Terry Barnes
DESCRIPTION:Enjoy the breathtaking photography of Terry Barnes as you see the natural beauty of life through his eyes. Terry was recently awarded the Best of Show and 1st prize award in the 2014 BRMP National Photography Show.  Opening reception is April 10\, 5-8:30pm.\n\nContact information: blueridgearts@gmail.com.
X-ALT-DESC;FMTTYPE=text/html:<span style="font-family:adobe caslon pro bold\,serif"><span style="font-size:medium">Enjoy the breathtaking photography of Terry Barnes as you see the natural beauty of life through his eyes. Terry was recently awarded the Best of Show and 1<sup><span style="font-size:small">st</span></sup> prize award in the 2014 BRMP National Photography Show.&nbsp\; <strong>Opening reception is April 10\, 5-8:30pm</strong>.</span></span><br />\n<span style="font-size:12pt"><span style="font-family:adobe caslon pro bold\,serif">Contact information: blueridgearts@gmail.com.</span></span><br />\n&nbsp\;
LOCATION:The Blue Ridge Mountains Art Association
UID:e.256.34975
SEQUENCE:3
DTSTAMP:20260423T200630Z
URL:https://members.visitblairsvillega.com/events/details/reception-for-artist-in-residence-terry-barnes-04-10-2015-34975
END:VEVENT

END:VCALENDAR
