BEGIN:VCALENDAR
VERSION:2.0
PRODID:-//ChamberMaster//Event Calendar 2.0//EN
METHOD:PUBLISH
X-PUBLISHED-TTL:P3D
REFRESH-INTERVAL:P3D
CALSCALE:GREGORIAN
BEGIN:VEVENT
DTSTART:20170506T223000Z
DTEND:20170507T003000Z
X-MICROSOFT-CDO-ALLDAYEVENT:FALSE
SUMMARY:Recipes Alive! Cooking Show
DESCRIPTION:This one-of-a-kind cooking show is sure to excite\, interest and be loads of fun for the experienced chef or for anyone just beginning their exploration of the kitchen. Well versed cooking experts\, restaurant owners and cook book authors each share their tips of the trade and favorite recipes live on stage. With amazing prizes\, gift bags for each participant and a few surprises\, Recipes Alive is a not miss for anyone interested in an evening of great food\, great fun and a great time with friends.
X-ALT-DESC;FMTTYPE=text/html:This one-of-a-kind cooking show is sure to excite\, interest and be loads of fun for the experienced chef or for anyone just beginning their exploration of the kitchen. Well versed cooking experts\, restaurant owners and cook book authors each share their tips of the trade and favorite recipes live on stage. With amazing prizes\, gift bags for each participant and a few surprises\, Recipes Alive is a not miss for anyone interested in an evening of great food\, great fun and a great time with friends.
LOCATION:Smoky Mountain Center for the Performing Arts 1028 Georgia Road Franklin\, NC 28734
UID:e.256.69050
SEQUENCE:3
DTSTAMP:20260420T010126Z
URL:https://members.visitblairsvillega.com/events/details/recipes-alive-cooking-show-69050
END:VEVENT

END:VCALENDAR
