BEGIN:VCALENDAR
VERSION:2.0
PRODID:-//ChamberMaster//Event Calendar 2.0//EN
METHOD:PUBLISH
X-PUBLISHED-TTL:P3D
REFRESH-INTERVAL:P3D
CALSCALE:GREGORIAN
BEGIN:VEVENT
DTSTART:20160514T130000Z
DTEND:20160514T180000Z
X-MICROSOFT-CDO-ALLDAYEVENT:FALSE
SUMMARY:Red Bird Mission Appalachian Craft Show
DESCRIPTION:You are invited to Red Bird Mission's Appalachian Craft Show this Saturday\, May 14\, from 9 am to 2 pm at Coosa United Methodist Church on Mulkey Gap Road in Blairsville\, GA. Artisans will feature handmade baskets\, kitchen tools\, jewelry\, corn shuck art\, ornaments\, and toys. This craft show is hosted by the First United Methodist churches of Union and Towns counties in support of The Red Bird Mission. For more information\, call 706-745-2073
X-ALT-DESC;FMTTYPE=text/html:You are invited to Red Bird Mission&#39\;s Appalachian Craft Show this Saturday\, May 14\, from 9 am to 2 pm at Coosa United Methodist Church on Mulkey Gap Road in Blairsville\, GA. Artisans will feature handmade baskets\, kitchen tools\, jewelry\, corn shuck art\, ornaments\, and toys. This craft show is hosted by the First United Methodist churches of Union and Towns counties in support of The Red Bird Mission. For more information\, call 706-745-2073
LOCATION:Coosa United Methodist Church 2850 Mulkey Gap Road Blairsville\, GA 30512
UID:e.256.51203
SEQUENCE:3
DTSTAMP:20260420T222852Z
URL:https://members.visitblairsvillega.com/events/details/red-bird-mission-appalachian-craft-show-05-14-2016-51203
END:VEVENT

END:VCALENDAR
