BEGIN:VCALENDAR
VERSION:2.0
PRODID:-//ChamberMaster//Event Calendar 2.0//EN
METHOD:PUBLISH
X-PUBLISHED-TTL:P3D
REFRESH-INTERVAL:P3D
CALSCALE:GREGORIAN
BEGIN:VEVENT
DTSTART:20170909T230000Z
DTEND:20170910T020000Z
X-MICROSOFT-CDO-ALLDAYEVENT:FALSE
SUMMARY:Red Wine Release Strolling Dinner Party at Hightower Creek Vineyards
DESCRIPTION:Join us as we release our 2016 Deliverance\, Chatuga Red and Cabernet Franc\, each paired with a seasonal dish by Hiawassee's Chef Karl Engelmann of Epic Catering. Stroll the vineyards and enjoy live music by The Radio Rangers on the deck. Special discounts on wine. What a perfect way to end summer!\n\nReservations required. To reserve\, call the tasting room at 706-896-8963 or email info@hightowercreekvineyards.com
X-ALT-DESC;FMTTYPE=text/html:<p>Join us as we release our 2016 Deliverance\, Chatuga Red and Cabernet Franc\, each paired with a seasonal dish by Hiawassee&rsquo\;s Chef Karl Engelmann of Epic Catering. Stroll the vineyards and enjoy live music by The Radio Rangers on the deck. Special discounts on wine. What a perfect way to end summer!</p>\n\n<p>Reservations required. To reserve\, call the tasting room at 706-896-8963 or email info@hightowercreekvineyards.com</p>\n
LOCATION:7150 Canaan Drive Hiawassee\, GA 30546
UID:e.256.75773
SEQUENCE:3
DTSTAMP:20260419T175621Z
URL:https://members.visitblairsvillega.com/events/details/red-wine-release-strolling-dinner-party-at-hightower-creek-vineyards-75773
END:VEVENT

END:VCALENDAR
