BEGIN:VCALENDAR
VERSION:2.0
PRODID:-//ChamberMaster//Event Calendar 2.0//EN
METHOD:PUBLISH
X-PUBLISHED-TTL:P3D
REFRESH-INTERVAL:P3D
CALSCALE:GREGORIAN
BEGIN:VEVENT
DTSTART:20141028T123000Z
DTEND:20141028T170000Z
X-MICROSOFT-CDO-ALLDAYEVENT:FALSE
SUMMARY:Region 2 Business & Employer Committee Summit
DESCRIPTION:Region 2 Business & Employer Committee Summit\n\nOctober 28\, 2014\n\n8:30am - 1:00pm\n\n\n\nSpeakers:\n\nMark Butler - Labor Commissioner\n\nCherry Rizer - GA Department of Labor\n\nHealthcare Speaker - Northwestern Benefit Corporation\n\n\n\nWhat - Unemployment Insurance\, Healthcare Reforms and more.\n\nWhen - October 28\, 2014 8:30am - 1:00pm\n\nWhere - The Torch Worship Center\, 800 Cannon Bridge Road\, Demorest\, GA\n\nContact - Janet Chapman 404-272-4470 or email: janet.chapman@gdol.ga.gov\n\n\n\nSpecial thanks to Chick-fil-A and the Employer Committees for your invaluable support.
X-ALT-DESC;FMTTYPE=text/html:<strong>Region 2 Business &amp\; Employer Committee Summit</strong><br />\nOctober 28\, 2014<br />\n8:30am - 1:00pm<br />\n<br />\nSpeakers:<br />\nMark Butler - Labor Commissioner<br />\nCherry Rizer - GA Department of Labor<br />\nHealthcare Speaker - Northwestern Benefit Corporation<br />\n<br />\nWhat - Unemployment Insurance\, Healthcare Reforms and more.<br />\nWhen - October 28\, 2014 8:30am - 1:00pm<br />\nWhere - The Torch Worship Center\, 800 Cannon Bridge Road\, Demorest\, GA<br />\nContact - Janet Chapman 404-272-4470 or email: janet.chapman@gdol.ga.gov<br />\n<br />\nSpecial thanks to Chick-fil-A and the Employer Committees for your invaluable support.<br />\n<br />\n&nbsp\;
LOCATION:The Torch Worship Center 800 Cannon Bridge Road Demorest\, GA
UID:e.256.25415
SEQUENCE:3
DTSTAMP:20260424T045824Z
URL:https://members.visitblairsvillega.com/events/details/region-2-business-employer-committee-summit-10-28-2014-25415
END:VEVENT

END:VCALENDAR
