BEGIN:VCALENDAR
VERSION:2.0
PRODID:-//ChamberMaster//Event Calendar 2.0//EN
METHOD:PUBLISH
X-PUBLISHED-TTL:P3D
REFRESH-INTERVAL:P3D
CALSCALE:GREGORIAN
BEGIN:VEVENT
DTSTART:20140505T160000Z
DTEND:20140505T160000Z
X-MICROSOFT-CDO-ALLDAYEVENT:FALSE
SUMMARY:Registration Open for Summer Art Program
DESCRIPTION:ArtWorks in Hiawassee is now registering students for our summer Art Program. We have many new classes that are very exciting. All the information is on our web site at www.artguildstore.com or call the store\n\nat 706-896-0932 .
X-ALT-DESC;FMTTYPE=text/html:ArtWorks in Hiawassee is now registering students for our summer Art Program. We have many new classes that are very exciting. All the information is on our web site at www.artguildstore.com or call the store<br />\nat 706-896-0932 .
LOCATION:Artworks
UID:e.256.24301
SEQUENCE:3
DTSTAMP:20260424T121013Z
URL:https://members.visitblairsvillega.com/events/details/registration-open-for-summer-art-program-05-05-2014-24301
END:VEVENT

END:VCALENDAR
