BEGIN:VCALENDAR
VERSION:2.0
PRODID:-//ChamberMaster//Event Calendar 2.0//EN
METHOD:PUBLISH
X-PUBLISHED-TTL:P3D
REFRESH-INTERVAL:P3D
CALSCALE:GREGORIAN
BEGIN:VEVENT
DTSTART:20140403T160000Z
DTEND:20140403T170000Z
X-MICROSOFT-CDO-ALLDAYEVENT:FALSE
SUMMARY:Relay for Life:Committee Meeting
DESCRIPTION:Relay for Life Committee members meet once per month to discuss and prepare for our upcoming Relay for Life event in May. If you are interested in being more involved you're more than welcome to join us!
X-ALT-DESC;FMTTYPE=text/html:Relay for Life Committee members meet once per month to discuss and prepare for our upcoming Relay for Life event in May. If you are interested in being more involved you&#39\;re more than welcome to join us!
LOCATION:Civic Center
UID:e.256.23049
SEQUENCE:3
DTSTAMP:20260424T133731Z
URL:https://members.visitblairsvillega.com/events/details/relay-for-life-committee-meeting-04-03-2014-23049
END:VEVENT

END:VCALENDAR
