BEGIN:VCALENDAR
VERSION:2.0
PRODID:-//ChamberMaster//Event Calendar 2.0//EN
METHOD:PUBLISH
X-PUBLISHED-TTL:P3D
REFRESH-INTERVAL:P3D
CALSCALE:GREGORIAN
BEGIN:VEVENT
DTSTART:20140531T140000Z
DTEND:20140601T020000Z
X-MICROSOFT-CDO-ALLDAYEVENT:FALSE
SUMMARY:Relay for Life of Union County
DESCRIPTION:Relay for Life is an event that brings together the community in the Fight Against Cancer. It is a carnival type atmosphere for all ages!\n\nSurvivors Celebration Picnic at 4:30pm\n\nSurvivor Walk at 6:00pm\n\nAnnual Luminary Service at dusk
X-ALT-DESC;FMTTYPE=text/html:Relay for Life is an event that brings together the community in the Fight Against Cancer. It is a carnival type atmosphere for all ages!<br />\nSurvivors Celebration Picnic at 4:30pm<br />\nSurvivor Walk at 6:00pm<br />\nAnnual Luminary Service at dusk
LOCATION:Union County Farmers Market 148 Old Smokey Rd (off of Weavers Rd) Blairsville\, GA
UID:e.256.23053
SEQUENCE:3
DTSTAMP:20260424T122450Z
URL:https://members.visitblairsvillega.com/events/details/relay-for-life-of-union-county-05-31-2014-23053
END:VEVENT

END:VCALENDAR
