BEGIN:VCALENDAR
VERSION:2.0
PRODID:-//ChamberMaster//Event Calendar 2.0//EN
METHOD:PUBLISH
X-PUBLISHED-TTL:P3D
REFRESH-INTERVAL:P3D
CALSCALE:GREGORIAN
BEGIN:VEVENT
DTSTART:20150506T130000Z
DTEND:20150506T160000Z
X-MICROSOFT-CDO-ALLDAYEVENT:FALSE
SUMMARY:Relay For Life Raffle @ Curves
DESCRIPTION:Join the ladies at Curves of Blairsville for coffee and bites from 9am - noon!\n\n\n\nStop by and purchase your raffle ticket for some great prizes! All proceeds go to Relay For Life!
X-ALT-DESC;FMTTYPE=text/html:Join the ladies at Curves of Blairsville for coffee and bites from 9am&nbsp\;- noon!<br />\n<br />\nStop by and purchase your raffle ticket for some great prizes! All proceeds go to Relay For Life!
LOCATION:Curves of Blairsville
UID:e.256.37739
SEQUENCE:3
DTSTAMP:20260423T182341Z
URL:https://members.visitblairsvillega.com/events/details/relay-for-life-raffle-curves-05-06-2015-37739
END:VEVENT

END:VCALENDAR
