BEGIN:VCALENDAR
VERSION:2.0
PRODID:-//ChamberMaster//Event Calendar 2.0//EN
METHOD:PUBLISH
X-PUBLISHED-TTL:P3D
REFRESH-INTERVAL:P3D
CALSCALE:GREGORIAN
BEGIN:VEVENT
DTSTART:20140306T220000Z
DTEND:20140306T233000Z
X-MICROSOFT-CDO-ALLDAYEVENT:FALSE
SUMMARY:Relay for Life: Team Captain Meeting
DESCRIPTION:Team captains and members\, as well as anyone that is interested can attend our monthly meetings that help motivate and give ideas on how to raise money.
X-ALT-DESC;FMTTYPE=text/html:Team captains and members\, as well as anyone that is interested can attend our monthly meetings that help motivate and give ideas on how to raise money.
LOCATION:Civic Center
UID:e.256.23048
SEQUENCE:3
DTSTAMP:20260424T152147Z
URL:https://members.visitblairsvillega.com/events/details/relay-for-life-team-captain-meeting-03-06-2014-23048
END:VEVENT

END:VCALENDAR
