BEGIN:VCALENDAR
VERSION:2.0
PRODID:-//ChamberMaster//Event Calendar 2.0//EN
METHOD:PUBLISH
X-PUBLISHED-TTL:P3D
REFRESH-INTERVAL:P3D
CALSCALE:GREGORIAN
BEGIN:VEVENT
DTSTART:20140403T210000Z
DTEND:20140403T223000Z
X-MICROSOFT-CDO-ALLDAYEVENT:FALSE
SUMMARY:Relay for Life: Team Captain Meeting
DESCRIPTION:Team Captains\, members\, or anyone else interested in being involved is welcome to join our month meetings to help motive the community in raising money for Cancer research
X-ALT-DESC;FMTTYPE=text/html:Team Captains\, members\, or anyone else interested in being involved is welcome to join our month meetings to help motive the community in raising money for Cancer research
LOCATION:Civic Center
UID:e.256.23050
SEQUENCE:3
DTSTAMP:20260424T133732Z
URL:https://members.visitblairsvillega.com/events/details/relay-for-life-team-captain-meeting-04-03-2014-23050
END:VEVENT

END:VCALENDAR
