BEGIN:VCALENDAR
VERSION:2.0
PRODID:-//ChamberMaster//Event Calendar 2.0//EN
METHOD:PUBLISH
X-PUBLISHED-TTL:P3D
REFRESH-INTERVAL:P3D
CALSCALE:GREGORIAN
BEGIN:VEVENT
DTSTART:20140508T210000Z
DTEND:20140508T223000Z
X-MICROSOFT-CDO-ALLDAYEVENT:FALSE
SUMMARY:Relay for Life: Team Captain Meeting
DESCRIPTION:Team Captains\, members\, and anyone interested is welcome to join us for our monthly meetings to help motivate our community in raising money for Cancer research.
X-ALT-DESC;FMTTYPE=text/html:Team Captains\, members\, and anyone interested is welcome to join us for our monthly meetings to help motivate our community in raising money for Cancer research.
LOCATION:Civic Center
UID:e.256.23052
SEQUENCE:3
DTSTAMP:20260424T133735Z
URL:https://members.visitblairsvillega.com/events/details/relay-for-life-team-captain-meeting-05-08-2014-23052
END:VEVENT

END:VCALENDAR
