BEGIN:VCALENDAR
VERSION:2.0
PRODID:-//ChamberMaster//Event Calendar 2.0//EN
METHOD:PUBLISH
X-PUBLISHED-TTL:P3D
REFRESH-INTERVAL:P3D
CALSCALE:GREGORIAN
BEGIN:VEVENT
DTSTART:20141206T160000Z
DTEND:20141206T190000Z
X-MICROSOFT-CDO-ALLDAYEVENT:FALSE
SUMMARY:REMAX Town & Country Blairsville - One Year Anniversary!
DESCRIPTION:Join us for our 1 year Anniversary Celebration!\n\nWe will have Food & Santa!\n\nAccepting donations for Shop with a Cop Program &\n\nGive a Gift Program!
X-ALT-DESC;FMTTYPE=text/html:Join us for our 1 year Anniversary Celebration!<br />\nWe will have Food &amp\; Santa!<br />\nAccepting donations for Shop with a Cop Program &amp\;<br />\nGive a Gift Program!
LOCATION:RE/MAX Town & Country Blairsville 253E Highway 515\, Suite B Blairsville\, GA
UID:e.256.27912
SEQUENCE:3
DTSTAMP:20260424T020804Z
URL:https://members.visitblairsvillega.com/events/details/remax-town-country-blairsville-one-year-anniversary-12-06-2014-27912
END:VEVENT

END:VCALENDAR
