BEGIN:VCALENDAR
VERSION:2.0
PRODID:-//ChamberMaster//Event Calendar 2.0//EN
METHOD:PUBLISH
X-PUBLISHED-TTL:P3D
REFRESH-INTERVAL:P3D
CALSCALE:GREGORIAN
BEGIN:VEVENT
DTSTART:20151019T220000Z
DTEND:20151019T230000Z
X-MICROSOFT-CDO-ALLDAYEVENT:FALSE
SUMMARY:Remember My Name Ceremony
DESCRIPTION:Hosted By S.A.F.E. dedicated in the honor of those who lost their life due to domestic violence in the past year
X-ALT-DESC;FMTTYPE=text/html:Hosted By S.A.F.E. dedicated in the honor of those who lost their life due to domestic violence in the past year
LOCATION:Sharp Memorial Church Young Harris GA
UID:e.256.44307
SEQUENCE:3
DTSTAMP:20260423T102459Z
URL:https://members.visitblairsvillega.com/events/details/remember-my-name-ceremony-10-19-2015-44307
END:VEVENT

END:VCALENDAR
