BEGIN:VCALENDAR
VERSION:2.0
PRODID:-//ChamberMaster//Event Calendar 2.0//EN
METHOD:PUBLISH
X-PUBLISHED-TTL:P3D
REFRESH-INTERVAL:P3D
CALSCALE:GREGORIAN
BEGIN:VEVENT
DTSTART:20151214T233000Z
DTEND:20151215T020000Z
X-MICROSOFT-CDO-ALLDAYEVENT:FALSE
SUMMARY:Republican Christmas Party
DESCRIPTION:Cherie Martin is heading up the party and would love to hear from all who are planning to attend.  You can contact her at ccmartin407@gmail.com.  Look forward to seeing you all
X-ALT-DESC;FMTTYPE=text/html:<span style="font-size: 11pt\;"><span style="font-family: calibri\,sans-serif\;">Cherie Martin is heading up the party and would love to hear from all who are planning to attend.&nbsp\; You can contact her at <a href="mailto:ccmartin407@gmail.com"><span style="color: rgb(0\, 0\, 255)\;">ccmartin407@gmail.com</span></a>.&nbsp\; Look forward to seeing you all </span></span>
LOCATION:Steve's Steak House a/k/a The Cookie Jar Restaurant\, Blairsville\, Georgia.
UID:e.256.45156
SEQUENCE:3
DTSTAMP:20260421T074327Z
URL:https://members.visitblairsvillega.com/events/details/republican-christmas-party-12-14-2015-45156
END:VEVENT

END:VCALENDAR
