BEGIN:VCALENDAR
VERSION:2.0
PRODID:-//ChamberMaster//Event Calendar 2.0//EN
METHOD:PUBLISH
X-PUBLISHED-TTL:P3D
REFRESH-INTERVAL:P3D
CALSCALE:GREGORIAN
BEGIN:VEVENT
DTSTART:20151028T233000Z
DTEND:20151029T030000Z
X-MICROSOFT-CDO-ALLDAYEVENT:FALSE
SUMMARY:Republican Debate Watch
DESCRIPTION:The debate will be projected for all to watch.   Food and beverages will be available to purchase in The View Restaurant.
X-ALT-DESC;FMTTYPE=text/html:<span style="font-size: 14pt\;"><span style="font-family: calibri\;">The debate will be projected for all to watch.&nbsp\;&nbsp\; Food and beverages will be available to purchase in The View Restaurant.</span></span><br />\n&nbsp\;
LOCATION:Union County Community Center Ballroom Upstairs (enter from The View side) (Located at the Butternut Creek Golf Course/Union County Chamber of Commerce)
UID:e.256.44308
SEQUENCE:3
DTSTAMP:20260423T115804Z
URL:https://members.visitblairsvillega.com/events/details/republican-debate-watch-10-28-2015-44308
END:VEVENT

END:VCALENDAR
