BEGIN:VCALENDAR
VERSION:2.0
PRODID:-//ChamberMaster//Event Calendar 2.0//EN
METHOD:PUBLISH
X-PUBLISHED-TTL:P3D
REFRESH-INTERVAL:P3D
CALSCALE:GREGORIAN
BEGIN:VEVENT
DTSTART:20150620T140000Z
DTEND:20150620T150000Z
X-MICROSOFT-CDO-ALLDAYEVENT:FALSE
SUMMARY:Republican Party Meeting
DESCRIPTION:This Saturday Patrick Malone\, candidate for Blue Ridge Mountain EMC board\, will be our speaker.  This will be your chance to ask any questions you might have of the candidate.  The election for EMC board members has taken on life of its own over the last couple of years as members have become more concerned as to who will be representing their interests.
X-ALT-DESC;FMTTYPE=text/html:<span style="font-family:calibri\,sans-serif\;"><span style="font-size:11.0pt\;">This Saturday Patrick Malone\, candidate for Blue Ridge Mountain EMC board\, will be our speaker.&nbsp\; This will be your chance to ask any questions you might have of the candidate.&nbsp\; The election for EMC board members has taken on life of its own over the last couple of years as members have become more concerned as to who will be representing their interests.</span></span>
LOCATION:Pat Haralson Civic Center 185 Wellborn St. Blairsville\, GA
UID:e.256.40402
SEQUENCE:3
DTSTAMP:20260423T165452Z
URL:https://members.visitblairsvillega.com/events/details/republican-party-meeting-06-20-2015-40402
END:VEVENT

END:VCALENDAR
