BEGIN:VCALENDAR
VERSION:2.0
PRODID:-//ChamberMaster//Event Calendar 2.0//EN
METHOD:PUBLISH
X-PUBLISHED-TTL:P3D
REFRESH-INTERVAL:P3D
CALSCALE:GREGORIAN
BEGIN:VEVENT
DTSTART:20151121T150000Z
DTEND:20151121T163000Z
X-MICROSOFT-CDO-ALLDAYEVENT:FALSE
SUMMARY:Republican Party November meeting
DESCRIPTION:This is our annual Suches meeting and Public Service Commissioner Tim Echols will be speaking on the EPA's Clean Air regulations and the waterway regulations which has caused much concern for farmers\, cattlemen and land owners.  Although this is a Republican meeting we open this meeting to all who want to attend.  We believe Commissioner Echol's will be able to answer many questions concerning what the EPA is attempting to do.  If any of your friends and neighbors are interested in these regulations\, feel free to invite them to come to this informative meeting.
X-ALT-DESC;FMTTYPE=text/html:<span style="font-size: 11pt\;"><span style="font-family: calibri\,sans-serif\;">This is our annual Suches meeting and Public Service Commissioner Tim Echols will be speaking on the EPA&#39\;s Clean Air regulations and the waterway regulations which has caused much concern for farmers\, cattlemen and land owners.&nbsp\; Although this is a Republican meeting we open this meeting to all who want to attend.&nbsp\; We believe Commissioner Echol&#39\;s will be able to answer many questions concerning what the EPA is attempting to do.&nbsp\; If any of your friends and neighbors are interested in these regulations\, feel free to invite them to come to this informative meeting. </span></span>
LOCATION:Suches Community Center in Suches\, GA
UID:e.256.45019
SEQUENCE:3
DTSTAMP:20260423T103241Z
URL:https://members.visitblairsvillega.com/events/details/republican-party-november-meeting-11-21-2015-45019
END:VEVENT

END:VCALENDAR
