BEGIN:VCALENDAR
VERSION:2.0
PRODID:-//ChamberMaster//Event Calendar 2.0//EN
METHOD:PUBLISH
X-PUBLISHED-TTL:P3D
REFRESH-INTERVAL:P3D
CALSCALE:GREGORIAN
BEGIN:VEVENT
DTSTART:20140808T233000Z
DTEND:20140808T160000Z
X-MICROSOFT-CDO-ALLDAYEVENT:FALSE
SUMMARY:Revival at The Rock Church
DESCRIPTION:Revival at The Rock Church The Rock Church would like to invite everyone to join us and special speaker\, Evangelist Joe Campetella in Rivival. The Lord is healing and miracles are happening. Come with an anticipation of what the Lord wants in your life.\n\nWe hope you join us in this time of revival with the outpouring of God's Spirit. Revival is August 6th - 8th at 7:30pm\, Sunday\, August 10th at 10:00am and 6:00pm.\n\nThe Rock is located at 620 Shoe Factory Road in the Hilltop Village.
X-ALT-DESC;FMTTYPE=text/html:Revival at The Rock Church The Rock Church would like to invite everyone to join us and special speaker\, Evangelist Joe Campetella in Rivival. The Lord is healing and miracles are happening. Come with an anticipation of what the Lord wants in your life.<br />\nWe hope you join us in this time of revival with the outpouring of God&#39\;s Spirit. Revival is August 6th - 8th at 7:30pm\, Sunday\, August 10th at 10:00am and 6:00pm.<br />\nThe Rock is located at 620 Shoe Factory Road in the Hilltop Village.
LOCATION:The Rock is located at 620 Shoe Factory Road in the Hilltop Village.
UID:e.256.25577
SEQUENCE:3
DTSTAMP:20260424T092154Z
URL:https://members.visitblairsvillega.com/events/details/revival-at-the-rock-church-08-08-2014-25577
END:VEVENT

END:VCALENDAR
