BEGIN:VCALENDAR
VERSION:2.0
PRODID:-//ChamberMaster//Event Calendar 2.0//EN
METHOD:PUBLISH
X-PUBLISHED-TTL:P3D
REFRESH-INTERVAL:P3D
CALSCALE:GREGORIAN
BEGIN:VEVENT
DTSTART:20161101T150000Z
DTEND:20161101T160000Z
X-MICROSOFT-CDO-ALLDAYEVENT:FALSE
SUMMARY:Ribbon Cuttin for Better Homes & Garden Real Estate Metro Broker
DESCRIPTION:The fine people from Better Homes & Garden Real Estate Metro Brokers will be hosting a ribbon cutting and everyone is invited.  Please plan to attend and learn what is new and exciting about our local real estate market.  Refreshments will be served.
X-ALT-DESC;FMTTYPE=text/html:The fine people from Better Homes &amp\; Garden Real Estate Metro Brokers will be hosting a ribbon cutting and everyone is invited.&nbsp\; Please plan to attend and learn what is new and exciting about our local real estate market.&nbsp\; Refreshments will be served.
LOCATION:63 Plott Street\, Ste. A Blairsville\, GA 30512
UID:e.256.59453
SEQUENCE:3
DTSTAMP:20260420T113839Z
URL:https://members.visitblairsvillega.com/events/details/ribbon-cuttin-for-better-homes-garden-real-estate-metro-broker-59453
END:VEVENT

END:VCALENDAR
