BEGIN:VCALENDAR
VERSION:2.0
PRODID:-//ChamberMaster//Event Calendar 2.0//EN
METHOD:PUBLISH
X-PUBLISHED-TTL:P3D
REFRESH-INTERVAL:P3D
CALSCALE:GREGORIAN
BEGIN:VEVENT
DTSTART:20141120T200000Z
DTEND:20141120T210000Z
X-MICROSOFT-CDO-ALLDAYEVENT:FALSE
SUMMARY:Ribbon Cutting and Open House for Rest Haven Florist
DESCRIPTION:You're Invited! Open House and Ribbon Cutting!\n\nOpen House 10am - 5pm\n\nRibbon Cutting Ceremony @ 3pm\n\nRefreshments served\n\nArrangement and gift certificate for a door prize\n\nRest Haven Florist is located at 267 Cleveland Street.\n\n	Rest Haven Florist has local flower delivery or easy nationwide delivery.\n	Our florists fulfill orders via our website or over the phone for your convenience.\n	If you're looking for the most beautiful\, budget-friendly bouquets in Blairsville\, look no further.\n	Rest Haven Florist has floral arrangements and gift baskets to fit your needs.\n	Our expert florists can even create personalized gifts to make any occasion extra special.\n\nwww.resthavenflorist.com
X-ALT-DESC;FMTTYPE=text/html:You&#39\;re Invited!&nbsp\;Open House&nbsp\;and Ribbon Cutting!<br />\nOpen House 10am - 5pm<br />\nRibbon Cutting Ceremony @ 3pm<br />\nRefreshments served<br />\nArrangement and gift certificate for a door prize<br />\nRest Haven Florist is&nbsp\;located at 267 Cleveland Street.\n<ul>\n	<li>Rest Haven Florist&nbsp\;has local flower delivery or easy nationwide delivery.</li>\n	<li>Our florists fulfill orders via our website or over the phone for your convenience.</li>\n	<li>If you&rsquo\;re looking for the most beautiful\, budget-friendly bouquets in Blairsville\, look no further.</li>\n	<li>Rest Haven Florist has floral arrangements and gift baskets to fit your needs.</li>\n	<li>Our expert florists can even create personalized gifts to make any occasion extra special.</li>\n</ul>\nwww.resthavenflorist.com<br />\n<br />\n<br />\n&nbsp\;
LOCATION:Rest Haven Florist 267 Cleveland Street Blairsville
UID:e.256.27490
SEQUENCE:3
DTSTAMP:20260424T033934Z
URL:https://members.visitblairsvillega.com/events/details/ribbon-cutting-and-open-house-for-rest-haven-florist-11-20-2014-27490
END:VEVENT

END:VCALENDAR
