BEGIN:VCALENDAR
VERSION:2.0
PRODID:-//ChamberMaster//Event Calendar 2.0//EN
METHOD:PUBLISH
X-PUBLISHED-TTL:P3D
REFRESH-INTERVAL:P3D
CALSCALE:GREGORIAN
BEGIN:VEVENT
DTSTART:20140926T140000Z
DTEND:20140926T150000Z
X-MICROSOFT-CDO-ALLDAYEVENT:FALSE
SUMMARY:Ribbon Cutting and ReGrand Opening for Cornerstone Thrift Store
DESCRIPTION:Join the Chamber for a Ribbon Cutting and ReGrand Opening for Cornerstone Thrift Store on Friday\, September 26th\, at 10:00AM. Come out and meet new owners Linda & Gary and check out the look of the new store. \n\nBusiness is located two doors down from Downtown Pizza in the Bi-Lo Shopping Center.
X-ALT-DESC;FMTTYPE=text/html:Join the Chamber for a Ribbon Cutting and ReGrand Opening for Cornerstone Thrift Store on Friday\, September 26th\, at 10:00AM. Come out and meet new owners Linda &amp\; Gary and check out the look of the&nbsp\;new store.&nbsp\;<br />\nBusiness is located two doors down from Downtown Pizza in the Bi-Lo Shopping Center.<br />\n&nbsp\;
LOCATION:Cornerstone Thrift Store 417 Blue Ridge Street\, Suite A (Bi-Lo Shopping Center) Blairsville
UID:e.256.27408
SEQUENCE:3
DTSTAMP:20260424T063349Z
URL:https://members.visitblairsvillega.com/events/details/ribbon-cutting-and-regrand-opening-for-cornerstone-thrift-store-09-26-2014-27408
END:VEVENT

END:VCALENDAR
