BEGIN:VCALENDAR
VERSION:2.0
PRODID:-//ChamberMaster//Event Calendar 2.0//EN
METHOD:PUBLISH
X-PUBLISHED-TTL:P3D
REFRESH-INTERVAL:P3D
CALSCALE:GREGORIAN
BEGIN:VEVENT
DTSTART:20150205T210000Z
DTEND:20150205T220000Z
X-MICROSOFT-CDO-ALLDAYEVENT:FALSE
SUMMARY:Ribbon Cutting at Amour Beauty Salon and Studio
DESCRIPTION:Join the ladies at Amour Beauty Salon & Studio as they welcome the community of Union County to their great salon!!
X-ALT-DESC;FMTTYPE=text/html:Join the ladies at Amour Beauty Salon &amp\; Studio as they welcome the community of Union County to their great salon!!
LOCATION:108 Blue Ridge Hwy Suite 7 Blairsville\, GA 30512
UID:e.256.36506
SEQUENCE:3
DTSTAMP:20260423T230221Z
URL:https://members.visitblairsvillega.com/events/details/ribbon-cutting-at-amour-beauty-salon-and-studio-02-05-2015-36506
END:VEVENT

END:VCALENDAR
