BEGIN:VCALENDAR
VERSION:2.0
PRODID:-//ChamberMaster//Event Calendar 2.0//EN
METHOD:PUBLISH
X-PUBLISHED-TTL:P3D
REFRESH-INTERVAL:P3D
CALSCALE:GREGORIAN
BEGIN:VEVENT
DTSTART:20140606T150000Z
DTEND:20140606T173000Z
X-MICROSOFT-CDO-ALLDAYEVENT:FALSE
SUMMARY:Ribbon Cutting - Blue Ridge Solar Park
DESCRIPTION:Marshall Properties and Creative Solar USA invites you to Blue Ridge Solar Park's\n\nRibbon Cutting\n\nJune 6\, 2014 11:00am - 1:30pm\n\nFood and refreshments will be served\n\n\n\nBlue Ridge Solar Park\n\n144 T Hughes Drive\n\nBlairsville\, GA\n\nDirections: From Blairsville\, go north on US 129 approx 6 miles\, turn right onto Gum Log Rd\, proceed approx 1.5 miles\, turn right onto T. Hughes Dr and the site is at the end and on the right.
X-ALT-DESC;FMTTYPE=text/html:Marshall Properties and Creative Solar USA invites you to Blue Ridge Solar Park&#39\;s<br />\nRibbon Cutting<br />\nJune 6\, 2014 11:00am - 1:30pm<br />\nFood and refreshments will be served<br />\n<br />\nBlue Ridge Solar Park<br />\n144 T Hughes Drive<br />\nBlairsville\, GA<br />\nDirections: <span style="font-size: 11pt\;">From Blairsville\, go north on US 129 approx 6 miles\, turn right onto Gum Log Rd\, proceed approx 1.5 miles\, turn right onto T. Hughes Dr and the site is at the end and on the right.&nbsp\;&nbsp\;</span><br />\n&nbsp\;
LOCATION:Blue Ridge Solar Park 144 T Hughes Drive Blairsville\, GA From Blairsville\, go north on US 129 approx 6 miles\, turn right onto Gum Log Rd\, proceed approx 1.5 miles\, turn right onto T. Hughes Dr and the site is at the end and on the right.
UID:e.256.24600
SEQUENCE:3
DTSTAMP:20260424T120603Z
URL:https://members.visitblairsvillega.com/events/details/ribbon-cutting-blue-ridge-solar-park-06-06-2014-24600
END:VEVENT

END:VCALENDAR
