BEGIN:VCALENDAR
VERSION:2.0
PRODID:-//ChamberMaster//Event Calendar 2.0//EN
METHOD:PUBLISH
X-PUBLISHED-TTL:P3D
REFRESH-INTERVAL:P3D
CALSCALE:GREGORIAN
BEGIN:VEVENT
DTSTART:20160220T180000Z
DTEND:20160220T210000Z
X-MICROSOFT-CDO-ALLDAYEVENT:FALSE
SUMMARY:Ribbon Cutting & Book Signing with James Ray Ashurst\, Ph.D.
DESCRIPTION:A ribbon cutting and book signing will be held for James Ray Ashurst\, Ph.D.\, clinical therapist and author of No-Nonsense Life Skills\, Managing Your Stress.
X-ALT-DESC;FMTTYPE=text/html:A ribbon cutting and book signing will be held&nbsp\;for James Ray Ashurst\, Ph.D.\, clinical therapist and author of <strong><em>No-Nonsense Life Skills\, Managing Your Stress.</em></strong>
LOCATION:The Flower Garden 102 A Cleveland Street Blairsville\, GA 30512
UID:e.256.49462
SEQUENCE:3
DTSTAMP:20260421T040251Z
URL:https://members.visitblairsvillega.com/events/details/ribbon-cutting-book-signing-with-james-ray-ashurst-ph-d-02-20-2016-49462
END:VEVENT

END:VCALENDAR
