BEGIN:VCALENDAR
VERSION:2.0
PRODID:-//ChamberMaster//Event Calendar 2.0//EN
METHOD:PUBLISH
X-PUBLISHED-TTL:P3D
REFRESH-INTERVAL:P3D
CALSCALE:GREGORIAN
BEGIN:VEVENT
DTSTART:20150716T163000Z
DTEND:20150716T173000Z
X-MICROSOFT-CDO-ALLDAYEVENT:FALSE
SUMMARY:Ribbon Cutting & Cook out for NAMI
DESCRIPTION:Come and join us as we celebrate with a community cook out and ribbon cutting for NAMI -- National Alliance on Mental Illness.
X-ALT-DESC;FMTTYPE=text/html:Come and join us as&nbsp\;we celebrate with a community cook out and ribbon cutting for NAMI -- National Alliance on&nbsp\;Mental Illness.
LOCATION:From Highway 129 South\, turn right onto Hunt-Martin St. New Hope Counseling is on the right -- 76 Hunt-Martin St.\, Blairsville\, GA 30512
UID:e.256.40312
SEQUENCE:3
DTSTAMP:20260423T165620Z
URL:https://members.visitblairsvillega.com/events/details/ribbon-cutting-cook-out-for-nami-07-16-2015-40312
END:VEVENT

END:VCALENDAR
