BEGIN:VCALENDAR
VERSION:2.0
PRODID:-//ChamberMaster//Event Calendar 2.0//EN
METHOD:PUBLISH
X-PUBLISHED-TTL:P3D
REFRESH-INTERVAL:P3D
CALSCALE:GREGORIAN
BEGIN:VEVENT
DTSTART:20171020T150000Z
DTEND:20171020T160000Z
X-MICROSOFT-CDO-ALLDAYEVENT:FALSE
SUMMARY:Ribbon Cutting for 2wice Around Thrift & Consignment Shop
DESCRIPTION:A ribbon cutting celebration will be held for 2wice Around Thrift & Consignment Shop. 2wice Around Thrift & Consignment Shop is not your typical thrift store.  Stop on in to see for yourself!  Everyone is invited to this special event.
X-ALT-DESC;FMTTYPE=text/html:<span style="font-size:medium\;"><span style="font-family:calibri\;">A ribbon cutting celebration will be held for <em>2wice Around Thrift &amp\; Consignment Shop. 2wice Around Thrift &amp\; Consignment Shop</em> is not your typical thrift store.&nbsp\; Stop on in to see for yourself!&nbsp\; Everyone is invited to this special event.</span></span>
LOCATION:1323 Murphy Highway Blairsville\, GA 30512
UID:e.256.75356
SEQUENCE:3
DTSTAMP:20260419T175430Z
URL:https://members.visitblairsvillega.com/events/details/ribbon-cutting-for-2wice-around-thrift-consignment-shop-75356
END:VEVENT

END:VCALENDAR
