BEGIN:VCALENDAR
VERSION:2.0
PRODID:-//ChamberMaster//Event Calendar 2.0//EN
METHOD:PUBLISH
X-PUBLISHED-TTL:P3D
REFRESH-INTERVAL:P3D
CALSCALE:GREGORIAN
BEGIN:VEVENT
DTSTART:20140625T140000Z
DTEND:20140625T150000Z
X-MICROSOFT-CDO-ALLDAYEVENT:FALSE
SUMMARY:Ribbon Cutting for 7M Family Farms\, LLC
DESCRIPTION:You're Invited!\n\nJoin the Chamber of Commerce for a ribbon cutting and grand opening for 7M Family Farms\, LLC on Wednesday\, June 25th at 10:00am. 7M Family Farm Market\, located at 596 Crump Creek Road\n\nDriving directions: Take 129S\, left onto Town Mountain\, left onto Crump Creek. \n\n\n\n7M Family Farms is a Family Owned Farm nestled in the Mountains of North East Georgia\, as a family we have been farming for 100 years in some aspect which goes all the way back to my Great Grand Parents Dairy Farm In Ohio and Citrus Farm in Florida.\n\nwww.localharvest.org/7m-family-farms-M62777
X-ALT-DESC;FMTTYPE=text/html:You&#39\;re Invited!<br />\nJoin the Chamber of Commerce for a ribbon cutting and grand opening for&nbsp\;7M Family Farms\,&nbsp\;LLC on&nbsp\;Wednesday\, June 25th at 10:00am. 7M Family Farm Market\, located at 596 Crump Creek Road<br />\nDriving directions: Take 129S\, left onto Town Mountain\, left onto Crump Creek.&nbsp\;<br />\n<br />\n7M Family Farms is a Family Owned Farm nestled in the Mountains of North East Georgia\, as a family we have been farming for 100 years in some aspect which goes all the way back to my Great Grand Parents Dairy Farm In Ohio and Citrus Farm in Florida.<br />\n<a href="http://www.localharvest.org/7m-family-farms-M62777"><font color="#820012">www.localharvest.org/7m-family-farms-M62777</font></a><br />\n<br />\n&nbsp\;
LOCATION:7M Family Farms\, LLC 596 Crump Creek Road (Driving directions: Take 129S\, left onto Town Mountain\, left onto Crump Creek) Blairsville\, GA
UID:e.256.24596
SEQUENCE:3
DTSTAMP:20260424T122734Z
URL:https://members.visitblairsvillega.com/events/details/ribbon-cutting-for-7m-family-farms-llc-06-25-2014-24596
END:VEVENT

END:VCALENDAR
