BEGIN:VCALENDAR
VERSION:2.0
PRODID:-//ChamberMaster//Event Calendar 2.0//EN
METHOD:PUBLISH
X-PUBLISHED-TTL:P3D
REFRESH-INTERVAL:P3D
CALSCALE:GREGORIAN
BEGIN:VEVENT
DTSTART:20151027T180000Z
DTEND:20151027T190000Z
X-MICROSOFT-CDO-ALLDAYEVENT:FALSE
SUMMARY:Ribbon Cutting for A 2 B Transit
DESCRIPTION:A 2 B Transit\, now offering transportation to the Harrah's Cherokee Valley River Casino and Hotel as well as special events\, airport shuttles\, and more\, is having a ribbon cutting at the Blairsville-Union County Chamber of Commerce to kick off their destination!  Everyone is invited to come meet with the owner\, Elliot Wilborn\, and see some of his luxury vehicles.
X-ALT-DESC;FMTTYPE=text/html:A 2 B Transit\, now offering transportation to the&nbsp\;Harrah&#39\;s Cherokee Valley River Casino and Hotel as well as special events\, airport shuttles\, and more\,&nbsp\;is having a ribbon cutting at the Blairsville-Union County Chamber of Commerce to kick off their destination!&nbsp\; Everyone is invited to come meet with the owner\,&nbsp\;Elliot Wilborn\, and see some of his luxury vehicles.
LOCATION:Blairsville-Union County Community Center 129 Union County Recreation Road Blairsville\, GA 30512
UID:e.256.44271
SEQUENCE:3
DTSTAMP:20260423T115708Z
URL:https://members.visitblairsvillega.com/events/details/ribbon-cutting-for-a-2-b-transit-10-27-2015-44271
END:VEVENT

END:VCALENDAR
