BEGIN:VCALENDAR
VERSION:2.0
PRODID:-//ChamberMaster//Event Calendar 2.0//EN
METHOD:PUBLISH
X-PUBLISHED-TTL:P3D
REFRESH-INTERVAL:P3D
CALSCALE:GREGORIAN
BEGIN:VEVENT
DTSTART:20160524T140000Z
DTEND:20160524T150000Z
X-MICROSOFT-CDO-ALLDAYEVENT:FALSE
SUMMARY:Ribbon Cutting for A Step Above Stables
DESCRIPTION:A ribbon cutting will be held for A Step Above Stables -- a family-owned and operated business.  Everyone is invited to come on out and meet Jan & Curtis Teague and see all of the beautiful horses and learn about the services that they offer.
X-ALT-DESC;FMTTYPE=text/html:A ribbon cutting will be held for A Step Above Stables -- a family-owned and operated business.&nbsp\; Everyone is invited to come on out and meet Jan &amp\; Curtis Teague and see all of the beautiful horses and learn about the services that they offer.
LOCATION:A Step Above Stables 696 Mauney Circle Blairsville\, GA 30512
UID:e.256.50965
SEQUENCE:3
DTSTAMP:20260421T002152Z
URL:https://members.visitblairsvillega.com/events/details/ribbon-cutting-for-a-step-above-stables-05-24-2016-50965
END:VEVENT

END:VCALENDAR
