BEGIN:VCALENDAR
VERSION:2.0
PRODID:-//ChamberMaster//Event Calendar 2.0//EN
METHOD:PUBLISH
X-PUBLISHED-TTL:P3D
REFRESH-INTERVAL:P3D
CALSCALE:GREGORIAN
BEGIN:VEVENT
DTSTART:20170731T150000Z
DTEND:20170731T160000Z
X-MICROSOFT-CDO-ALLDAYEVENT:FALSE
SUMMARY:Ribbon Cutting for A. Unique Boutique
DESCRIPTION:A ribbon cutting will be held for A. Unique Boutique\, a "hippie chic" boutique located on The Square in Hayesville\, NC.  Everyone is invited to come and meet owner\, Alisha Hogsed\, and see some of her beautifully designed outfits and accessories.
X-ALT-DESC;FMTTYPE=text/html:A ribbon cutting will be held for A. Unique Boutique\, a &quot\;hippie chic&quot\; boutique located on The Square in Hayesville\, NC.&nbsp\; Everyone is invited to come and meet owner\, Alisha Hogsed\, and see some of her beautifully designed outfits and accessories.
LOCATION:Blairsville-Union County Chamber of Commerce 129 Union County Recreation Rd. Blairsville\, GA 30512
UID:e.256.74199
SEQUENCE:3
DTSTAMP:20260419T212644Z
URL:https://members.visitblairsvillega.com/events/details/ribbon-cutting-for-a-unique-boutique-74199
END:VEVENT

END:VCALENDAR
