BEGIN:VCALENDAR
VERSION:2.0
PRODID:-//ChamberMaster//Event Calendar 2.0//EN
METHOD:PUBLISH
X-PUBLISHED-TTL:P3D
REFRESH-INTERVAL:P3D
CALSCALE:GREGORIAN
BEGIN:VEVENT
DTSTART:20150327T150000Z
DTEND:20150327T160000Z
X-MICROSOFT-CDO-ALLDAYEVENT:FALSE
SUMMARY:Ribbon Cutting for A Wireless
DESCRIPTION:Please join us for A Wireless' Ribbon Cutting and Grand Re-Opening! There will be door prizes and accessory discounts!
X-ALT-DESC;FMTTYPE=text/html:Please join us for A Wireless&#39\; Ribbon Cutting and Grand Re-Opening! There will be door prizes and accessory discounts!
LOCATION:Union Station Plaza 305 B&C Murphy Highway Blairsville\, GA 30512
UID:e.256.37723
SEQUENCE:3
DTSTAMP:20260423T224241Z
URL:https://members.visitblairsvillega.com/events/details/ribbon-cutting-for-a-wireless-03-27-2015-37723
END:VEVENT

END:VCALENDAR
