BEGIN:VCALENDAR
VERSION:2.0
PRODID:-//ChamberMaster//Event Calendar 2.0//EN
METHOD:PUBLISH
X-PUBLISHED-TTL:P3D
REFRESH-INTERVAL:P3D
CALSCALE:GREGORIAN
BEGIN:VEVENT
DTSTART:20151006T140000Z
DTEND:20151006T150000Z
X-MICROSOFT-CDO-ALLDAYEVENT:FALSE
SUMMARY:Ribbon Cutting for Affordable Hearing Aid Solutions
DESCRIPTION:Come to celebrate with "Affordable Hearing Aid Solutions" as we cut a ribbon and meet business owner\, Debra Spaulding.
X-ALT-DESC;FMTTYPE=text/html:Come to&nbsp\;celebrate with&nbsp\;&quot\;Affordable Hearing Aid Solutions&quot\; as we cut a ribbon and meet business owner\, Debra Spaulding.
LOCATION:411 Hwy 515 Suite D Blairsville\, GA 30512
UID:e.256.41324
SEQUENCE:3
DTSTAMP:20260423T102800Z
URL:https://members.visitblairsvillega.com/events/details/ribbon-cutting-for-affordable-hearing-aid-solutions-10-06-2015-41324
END:VEVENT

END:VCALENDAR
