BEGIN:VCALENDAR
VERSION:2.0
PRODID:-//ChamberMaster//Event Calendar 2.0//EN
METHOD:PUBLISH
X-PUBLISHED-TTL:P3D
REFRESH-INTERVAL:P3D
CALSCALE:GREGORIAN
BEGIN:VEVENT
DTSTART:20160929T140000Z
DTEND:20160929T150000Z
X-MICROSOFT-CDO-ALLDAYEVENT:FALSE
SUMMARY:Ribbon Cutting for Air Life Georgia 14
DESCRIPTION:It is an honor to celebration the arrival of Air Life Georgia 14 to Blairsville-Union County.  A ribbon cutting will be held at 10 a.m. at the helicopter pad located behind Union General Hospital.  Immediately following\, refreshments will be served and a tour of their facility will be held.  Everyone is invited to meet the outstanding crew of Air Life Georgia 14 and learn about this state-of-the-art\, emergency service available in our community.
X-ALT-DESC;FMTTYPE=text/html:It is an honor to celebration the arrival of Air Life Georgia 14 to Blairsville-Union County. &nbsp\;A ribbon cutting will be held at 10 a.m. at the helicopter pad located behind Union General Hospital. &nbsp\;Immediately following\, refreshments will be served and a tour of their facility will be held. &nbsp\;Everyone is invited to meet the outstanding crew of Air Life Georgia 14 and learn about this state-of-the-art\, emergency service available in our community.
LOCATION:Ribbon Cutting - Helicopter Pad behind Union General Refreshments & Tour - 219 Hospital Dr.\, Blairsville\, GA
UID:e.256.58123
SEQUENCE:3
DTSTAMP:20260420T145338Z
URL:https://members.visitblairsvillega.com/events/details/ribbon-cutting-for-air-life-georgia-14-58123
END:VEVENT

END:VCALENDAR
