BEGIN:VCALENDAR
VERSION:2.0
PRODID:-//ChamberMaster//Event Calendar 2.0//EN
METHOD:PUBLISH
X-PUBLISHED-TTL:P3D
REFRESH-INTERVAL:P3D
CALSCALE:GREGORIAN
BEGIN:VEVENT
DTSTART:20151215T200000Z
DTEND:20151215T210000Z
X-MICROSOFT-CDO-ALLDAYEVENT:FALSE
SUMMARY:Ribbon Cutting for Allstate Insurance Co. - The Enotah Group
DESCRIPTION:Tis' the season to hold a ribbon cutting on The Square!  Allstate Insurance - The Enotah Group will be doing just that.  Everyone is invited to come in for some refreshments and to meet Tommy Drake and Glenda Taylor.  Be sure to bring your business cards as there will be a raffle for a "surprise gift."
X-ALT-DESC;FMTTYPE=text/html:Tis&#39\; the season to hold a ribbon cutting on The Square!&nbsp\; Allstate Insurance - The Enotah Group will be doing just that.&nbsp\; Everyone is invited&nbsp\;to come in for some refreshments&nbsp\;and&nbsp\;to meet Tommy Drake and Glenda Taylor.&nbsp\; Be sure to bring your business cards as there will be a raffle for a &quot\;surprise gift.&quot\;
LOCATION:44B Town Square Blairsville\, GA 30512
UID:e.256.44332
SEQUENCE:3
DTSTAMP:20260421T074602Z
URL:https://members.visitblairsvillega.com/events/details/ribbon-cutting-for-allstate-insurance-co-the-enotah-group-12-15-2015-44332
END:VEVENT

END:VCALENDAR
