BEGIN:VCALENDAR
VERSION:2.0
PRODID:-//ChamberMaster//Event Calendar 2.0//EN
METHOD:PUBLISH
X-PUBLISHED-TTL:P3D
REFRESH-INTERVAL:P3D
CALSCALE:GREGORIAN
BEGIN:VEVENT
DTSTART:20150508T150000Z
DTEND:20150508T160000Z
X-MICROSOFT-CDO-ALLDAYEVENT:FALSE
SUMMARY:Ribbon Cutting for American Cowboy Store
DESCRIPTION:Please join American Cowboy Store for their Ribbon Cutting with new ownership! There will be sales all throughout the day and weekend! Come out and see all their gear!
X-ALT-DESC;FMTTYPE=text/html:Please join American Cowboy Store for their Ribbon Cutting with new ownership! There will be sales all throughout the day and weekend! Come out and see all their gear!
LOCATION:American Cowboy Store 513D Murphy Highway Blairsville\, GA 30512
UID:e.256.38091
SEQUENCE:3
DTSTAMP:20260423T200714Z
URL:https://members.visitblairsvillega.com/events/details/ribbon-cutting-for-american-cowboy-store-05-08-2015-38091
END:VEVENT

END:VCALENDAR
