BEGIN:VCALENDAR
VERSION:2.0
PRODID:-//ChamberMaster//Event Calendar 2.0//EN
METHOD:PUBLISH
X-PUBLISHED-TTL:P3D
REFRESH-INTERVAL:P3D
CALSCALE:GREGORIAN
BEGIN:VEVENT
DTSTART:20170918T150000Z
DTEND:20170918T160000Z
X-MICROSOFT-CDO-ALLDAYEVENT:FALSE
SUMMARY:Ribbon Cutting for American Legion\, Ira Weaver Post 121
DESCRIPTION:A ribbon cutting celebration will be held for the American Legion\, Ira Weaver Post 121. Everyone is welcome to this special event\, including non-members of the post.
X-ALT-DESC;FMTTYPE=text/html:<span style="font-size:11pt\;"><span style="font-family:calibri\,sans-serif\;">A ribbon cutting celebration will be held for </span></span><span style="font-size:11pt\;"><span style="font-family:calibri\,sans-serif\;">the <em>American Legion\, Ira Weaver Post 121. </em>Everyone is welcome to this special event\, including non-members of the post.</span></span>
LOCATION:78 Old Blue Ridge Highway Blairsville\, GA 30512
UID:e.256.75351
SEQUENCE:3
DTSTAMP:20260419T180003Z
URL:https://members.visitblairsvillega.com/events/details/ribbon-cutting-for-american-legion-ira-weaver-post-121-75351
END:VEVENT

END:VCALENDAR
