BEGIN:VCALENDAR
VERSION:2.0
PRODID:-//ChamberMaster//Event Calendar 2.0//EN
METHOD:PUBLISH
X-PUBLISHED-TTL:P3D
REFRESH-INTERVAL:P3D
CALSCALE:GREGORIAN
BEGIN:VEVENT
DTSTART:20160316T170000Z
DTEND:20160316T180000Z
X-MICROSOFT-CDO-ALLDAYEVENT:FALSE
SUMMARY:Ribbon Cutting for American Pest Control
DESCRIPTION:American Pest Control will be having a ribbon cutting at the Union County Community Center.  A drawing will be held to win a gift certificate good for a free\, one-time pest management service valued at $150!
X-ALT-DESC;FMTTYPE=text/html:American Pest Control will be having a ribbon cutting at the Union County Community Center.&nbsp\; A drawing will be held to win a gift certificate good for a free\, one-time pest management service valued at $150!
LOCATION:Blairsville-Union County Chamber of Commerce 129 Union County Recreation Road Blairsville\, GA 30512
UID:e.256.48316
SEQUENCE:3
DTSTAMP:20260421T022134Z
URL:https://members.visitblairsvillega.com/events/details/ribbon-cutting-for-american-pest-control-03-16-2016-48316
END:VEVENT

END:VCALENDAR
