BEGIN:VCALENDAR
VERSION:2.0
PRODID:-//ChamberMaster//Event Calendar 2.0//EN
METHOD:PUBLISH
X-PUBLISHED-TTL:P3D
REFRESH-INTERVAL:P3D
CALSCALE:GREGORIAN
BEGIN:VEVENT
DTSTART:20140709T153000Z
DTEND:20140709T163000Z
X-MICROSOFT-CDO-ALLDAYEVENT:FALSE
SUMMARY:Ribbon Cutting for American Security Shredding
DESCRIPTION:Please join us for a ribbon cutting ceremony at 11:30am on Wednesday\, July 9th for American Security Shredding.The ribbon cutting celebration will be held at the Chamber of Commerce\, located at 129 Union County Rec Rd in the Community Center.\n\nVisit their website: www.gashredding.com for more information.\n\nBring your business cards to hand out and possibly win a door prize.  \n\nRefreshments available.
X-ALT-DESC;FMTTYPE=text/html:Please join us for a ribbon cutting ceremony at 11:30am on Wednesday\, July 9th for American Security Shredding.The ribbon cutting celebration will be held at the Chamber of Commerce\, located at 129 Union County Rec Rd in the Community Center.<br />\nVisit their website: <u>www.gashredding.com&nbsp\;</u>for more information.<br />\nBring your business cards to hand out and possibly win a door prize.&nbsp\;&nbsp\;<br />\nRefreshments available.
LOCATION:Union County Chamber of Commerce\, located in the Union County Community Center 129 Union County Rec Rd Blairsville\, GA
UID:e.256.24775
SEQUENCE:3
DTSTAMP:20260424T091930Z
URL:https://members.visitblairsvillega.com/events/details/ribbon-cutting-for-american-security-shredding-07-09-2014-24775
END:VEVENT

END:VCALENDAR
