BEGIN:VCALENDAR
VERSION:2.0
PRODID:-//ChamberMaster//Event Calendar 2.0//EN
METHOD:PUBLISH
X-PUBLISHED-TTL:P3D
REFRESH-INTERVAL:P3D
CALSCALE:GREGORIAN
BEGIN:VEVENT
DTSTART:20170908T150000Z
DTEND:20170908T160000Z
X-MICROSOFT-CDO-ALLDAYEVENT:FALSE
SUMMARY:Ribbon Cutting for Amoree's
DESCRIPTION:A ribbon cutting celebration will be held for Amoree's. Amoree's is a unique boutique with all sorts of "cool junk".  They carry rustic elegance and shabby chic merchandise\, accessories\, and furnishings for home and gift giving. Candles\, soaps\, one-of-a-kind hand-made signs\, paints\, and so much more!  Everyone is invited to the special event
X-ALT-DESC;FMTTYPE=text/html:<span style="font-size:medium\;"><span style="font-family:calibri\;">A ribbon cutting celebration will be held for <em>Amoree&rsquo\;s</em>. <em>Amoree&rsquo\;s </em>is a unique boutique with all sorts of &ldquo\;cool junk&rdquo\;.&nbsp\; They carry rustic elegance and shabby chic merchandise\, accessories\, and furnishings for home and gift giving. Candles\, soaps\, one-of-a-kind hand-made signs\, paints\, and so much more!&nbsp\; Everyone is invited to the special event</span></span>
LOCATION:22 Boxbourough Drive Blairsville\, GA 30512
UID:e.256.75348
SEQUENCE:3
DTSTAMP:20260419T192639Z
URL:https://members.visitblairsvillega.com/events/details/ribbon-cutting-for-amoree-s-75348
END:VEVENT

END:VCALENDAR
