BEGIN:VCALENDAR
VERSION:2.0
PRODID:-//ChamberMaster//Event Calendar 2.0//EN
METHOD:PUBLISH
X-PUBLISHED-TTL:P3D
REFRESH-INTERVAL:P3D
CALSCALE:GREGORIAN
BEGIN:VEVENT
DTSTART:20160607T150000Z
DTEND:20160607T160000Z
X-MICROSOFT-CDO-ALLDAYEVENT:FALSE
SUMMARY:Ribbon Cutting for Appalachian Land & Mortgage
DESCRIPTION:The team of Appalachian Land & Mortgage from Canton\, Georgia would like to invite you to come support them at the ribbon cutting ceremony being held at the Blairsville-Union County Chamber of Commerce.
X-ALT-DESC;FMTTYPE=text/html:The team of Appalachian Land &amp\; Mortgage from Canton\, Georgia would like to invite you to come support them at the ribbon cutting ceremony being held at the Blairsville-Union County Chamber of Commerce.
LOCATION:Blairsville-Union County Chamber of Commerce 129 Union County Recreation Rd Blairsville\, GA 30512
UID:e.256.51235
SEQUENCE:3
DTSTAMP:20260420T204200Z
URL:https://members.visitblairsvillega.com/events/details/ribbon-cutting-for-appalachian-land-mortgage-06-07-2016-51235
END:VEVENT

END:VCALENDAR
