BEGIN:VCALENDAR
VERSION:2.0
PRODID:-//ChamberMaster//Event Calendar 2.0//EN
METHOD:PUBLISH
X-PUBLISHED-TTL:P3D
REFRESH-INTERVAL:P3D
CALSCALE:GREGORIAN
BEGIN:VEVENT
DTSTART:20151210T190000Z
DTEND:20151210T200000Z
X-MICROSOFT-CDO-ALLDAYEVENT:FALSE
SUMMARY:Ribbon Cutting for Arp's Cleaning Service
DESCRIPTION:Arp's Cleaning Service\, your one-stop shop for cleaning\, water damage restoration\, outside services\, and more will be "cutting the ribbon" at the Union County Community Center with the Blairsville-Union County Chamber of Commerce.  Everyone is invited to come and meet Richard Arp and find out about all the residential and commercial services his company has to offer.
X-ALT-DESC;FMTTYPE=text/html:Arp&#39\;s Cleaning Service\, your one-stop shop for cleaning\, water damage restoration\, outside services\, and more will be &quot\;cutting the ribbon&quot\; at the Union County Community Center with the Blairsville-Union County Chamber of Commerce.&nbsp\; Everyone is invited to come and meet Richard Arp and find out about all the residential and commercial services his company has to offer.
LOCATION:Union County Chamber of Commerce 129 Union County Recreation Road Blairsville\, GA 30512
UID:e.256.45021
SEQUENCE:3
DTSTAMP:20260421T074346Z
URL:https://members.visitblairsvillega.com/events/details/ribbon-cutting-for-arp-s-cleaning-service-12-10-2015-45021
END:VEVENT

END:VCALENDAR
