BEGIN:VCALENDAR
VERSION:2.0
PRODID:-//ChamberMaster//Event Calendar 2.0//EN
METHOD:PUBLISH
X-PUBLISHED-TTL:P3D
REFRESH-INTERVAL:P3D
CALSCALE:GREGORIAN
BEGIN:VEVENT
DTSTART:20140905T190000Z
DTEND:20140905T200000Z
X-MICROSOFT-CDO-ALLDAYEVENT:FALSE
SUMMARY:Ribbon Cutting for B & T Trading Post & Snack Wagon
DESCRIPTION:You're Invited!\n\nRibbon Cutting for B & T Trading Post & Snack Wagon on Friday\,September 5\, 2014 at 3:00pm\, located at 4903 Hwy 515 E.\n\nB & T Trading Post (and Snack Wagon) makes shopping fun!\n\nCome and feed some goats\, check out the chickens and see bunnies! (All for sale)\n\nNot only does our mountain store stock a whole variety of items\, we also offer our visitors a place to meet new friends\, to gather for conversation\, and to enjoy southern hospitality at its finest.\n\nwww.bandttradingpost.com
X-ALT-DESC;FMTTYPE=text/html:You&#39\;re Invited!<br />\nRibbon Cutting for B &amp\; T Trading Post &amp\; Snack Wagon on Friday\,September 5\, 2014 at 3:00pm\, located at 4903 Hwy 515 E.<br />\nB &amp\; T Trading Post (and Snack Wagon) makes shopping fun!<br />\nCome and feed some goats\, check out the chickens and see bunnies! (All for sale)<br />\nNot only does our mountain store stock a whole variety of items\, we also offer our visitors a place to meet new friends\, to gather for conversation\, and to enjoy southern hospitality at its finest.<br />\n<strong>www.bandttradingpost.com</strong>
LOCATION:B & T Trading Post & Snack Wagon 4903 Hwy 515 E Blairsville\, Ga
UID:e.256.27248
SEQUENCE:3
DTSTAMP:20260424T063048Z
URL:https://members.visitblairsvillega.com/events/details/ribbon-cutting-for-b-t-trading-post-snack-wagon-09-05-2014-27248
END:VEVENT

END:VCALENDAR
